BEGIN:VCALENDAR
VERSION:2.0
PRODID:-//wp-events-plugin.com//7.2.3.1//EN
BEGIN:VEVENT
UID:387@svfilatelie.nl
DTSTART;TZID=Europe/Amsterdam:20261205T130000
DTEND;TZID=Europe/Amsterdam:20261205T160000
DTSTAMP:20251126T113506Z
URL:https://www.svfilatelie.nl/events/bijeenkomst-in-nunspeet-10
SUMMARY:Bijeenkomst in Nunspeet
DESCRIPTION:Wij\, de Nunspeetse postzegel verzamelaars\, komen weer bijeen 
 in het verenigingsgebouw 'de Wheme'\, Ds. De Bouterlaan 7 in Nunspeet .\n\
 nHet begint om 13\,00 tot 16\,00 uur en iedereen is weer van harte welkom 
 die middag.\n\nDus als je nog wat zoekt\, kom gerust langs je wordt altijd
  goed voorgelicht door Peter .\ndus schroom niet maar kom langs die middag
  .\n\nContact adres : mobiel 06 515 98 034 of 06 528 39 437.\nPr: man Tijm
 en.
CATEGORIES:verenigingsbijeenkomst
LOCATION:https://www.bing.com/maps/search?mepi=0%7E%7EEmbedded%7EAddress_Li
 nk&ty=18&v=2&sV=1&FORM=MPSRPL&q=De+Wheme&ss=id.ypid%3AYN8000x2657420200943
 885654&ppois=52.37647247314453_5.78530216217041_De+Wheme_YN8000x2657420200
 943885654%7E&cp=52.376472%7E5.785302&lvl=11&style=r
END:VEVENT
BEGIN:VTIMEZONE
TZID:Europe/Amsterdam
X-LIC-LOCATION:Europe/Amsterdam
BEGIN:STANDARD
DTSTART:20261025T020000
TZOFFSETFROM:+0200
TZOFFSETTO:+0100
TZNAME:CET
END:STANDARD
END:VTIMEZONE
END:VCALENDAR