BEGIN:VCALENDAR
VERSION:2.0
PRODID:-//wp-events-plugin.com//7.2.3.1//EN
BEGIN:VEVENT
UID:404@svfilatelie.nl
DTSTART;TZID=Europe/Amsterdam:20261101T093000
DTEND;TZID=Europe/Amsterdam:20261101T120000
DTSTAMP:20260402T124711Z
URL:https://www.svfilatelie.nl/events/bijeenkomst-in-sweikhuizen-2
SUMMARY:Bijeenkomst in Sweikhuizen
DESCRIPTION:\nWij\, de Philatelist Geleen\, komen weer bijeen in Zaal: Rect
 or Raevenhuis te Sweikhuizen .\n\nHet begint om 09\,30 tot 12\,00 uur en i
 edereen is weer van harte welkom die morgen.\n\nDus als je nog wat zoekt\,
  kom gerust langs.\n\n\n\n\n\n\n\n\n\nAdres:\n\nZaal: Rector Raevenhuis\n\
 nBergstraat 80\,\n\n6174 RT\, Sweikhuizen\n\n\n\n\n\n\n\n\n\n\n\n\n\n\n\n\
 n\n\n&nbsp\;\n\n&nbsp\;\n\n\n\n\n\n\n\n
CATEGORIES:verenigingsbijeenkomst
LOCATION:https://www.google.com/maps/place/Rect.+Ravenhuis,+Bergstraat+80,+
 6174+RT+Sweikhuizen/@50.9533457,5.8457582,356m/data=!3m1!1e3!4m6!3m5!1s0x4
 7c0c754459e451b:0x5e7b427fc41dd451!8m2!3d50.9530923!4d5.8478396!16s%2Fg%2F
 11x_fwt27b?entry=ttu&g_ep=EgoyMDI2MDMzMC4wIKXMDSoASAFQAw%3D%3D
END:VEVENT
BEGIN:VTIMEZONE
TZID:Europe/Amsterdam
X-LIC-LOCATION:Europe/Amsterdam
BEGIN:STANDARD
DTSTART:20261025T020000
TZOFFSETFROM:+0200
TZOFFSETTO:+0100
TZNAME:CET
END:STANDARD
END:VTIMEZONE
END:VCALENDAR