BEGIN:VCALENDAR
VERSION:2.0
PRODID:-//wp-events-plugin.com//7.2.3.1//EN
BEGIN:VEVENT
UID:403@svfilatelie.nl
DTSTART;TZID=Europe/Amsterdam:20260503T090000
DTEND;TZID=Europe/Amsterdam:20260503T123000
DTSTAMP:20260414T135425Z
URL:https://www.svfilatelie.nl/events/bijeenkomst-in-sweikhuizen
SUMMARY:Bijeenkomst in Sweikhuizen
DESCRIPTION:Wij\, de Philatelist Geleen\, komen weer bijeen in Zaal: Rector
  Raevenhuis te Sweikhuizen .\n\nHet begint om 09\,00 tot 12\,30 uur en ied
 ereen is weer van harte welkom die morgen.\n\nDus als je nog wat zoekt\, k
 om gerust langs\n\n\n\n\n\n\n\n\n\nAdres:\n\nZaal: Rector Raevenhuis\n\nBe
 rgstraat 80\,\n\n6174 RT\, Sweikhuizen\n\n\n\nLet op! In de weekenden is h
 et dorp zowel van beneden (via Geleen) als van boven (via Puth) bereikbaar
 !\n\n\n&nbsp\;\n\n\n\n\n\n\n\n
CATEGORIES:verenigingsbijeenkomst
LOCATION:https://www.google.com/maps/place/Rect.+Ravenhuis,+Bergstraat+80,+
 6174+RT+Sweikhuizen/@50.9533457,5.8457582,356m/data=!3m1!1e3!4m6!3m5!1s0x4
 7c0c754459e451b:0x5e7b427fc41dd451!8m2!3d50.9530923!4d5.8478396!16s%2Fg%2F
 11x_fwt27b?entry=ttu&g_ep=EgoyMDI2MDMzMC4wIKXMDSoASAFQAw%3D%3D
END:VEVENT
BEGIN:VTIMEZONE
TZID:Europe/Amsterdam
X-LIC-LOCATION:Europe/Amsterdam
BEGIN:DAYLIGHT
DTSTART:20260329T030000
TZOFFSETFROM:+0100
TZOFFSETTO:+0200
TZNAME:CEST
END:DAYLIGHT
END:VTIMEZONE
END:VCALENDAR