BEGIN:VCALENDAR
VERSION:2.0
PRODID:-//wp-events-plugin.com//7.2.3.1//EN
BEGIN:VEVENT
UID:422@svfilatelie.nl
DTSTART;TZID=Europe/Amsterdam:20260502T090000
DTEND;TZID=Europe/Amsterdam:20260502T130000
DTSTAMP:20260412T163220Z
URL:https://www.svfilatelie.nl/events/bijeenkomst-postzegelverzamelaarsver
 eniging-regio-meppel
SUMMARY:Bijeenkomst Postzegelverzamelaarsvereniging Regio Meppel
DESCRIPTION:Bijeenkomst Postzegelverzamelaarsvereniging Regio Meppel   \n
 Bijeenkomsten: 3e maandag van de maanden oktober tot en met maart van 14:
 00-16:00 uur.\nRuilbeurzen: 1e zaterdag van de maanden september tot en m
 et mei van 9:00-13:00 uur.\nDe beursmeester is Henk Steenwijk\, tel: 0529 
 432 746.\nAlle activiteiten vinden plaats in ‘Dorpshuis de Schalle”\,\
 n\nNieuweweg 27\n7948 AA Nijeveen\nToegang gratis. Bereikbaar via NS naar 
 Meppel en bus naar Nijeveen.
CATEGORIES:Clubochtend,verenigingsbijeenkomst
LOCATION:https://www.google.com/maps/place/Nieuweweg+27,+7948+AA+Nijeveen/@
 52.7296297,6.1649716,685m/data=!3m2!1e3!4b1!4m6!3m5!1s0x47c86d9148f464c9:0
 xb1361e066f8b64cd!8m2!3d52.7296297!4d6.1649716!16s%2Fg%2F11q2x8qcc_?hl=nl&
 entry=ttu&g_ep=EgoyMDI2MDQwOC4wIKXMDSoASAFQAw%3D%3D
END:VEVENT
BEGIN:VTIMEZONE
TZID:Europe/Amsterdam
X-LIC-LOCATION:Europe/Amsterdam
BEGIN:DAYLIGHT
DTSTART:20260329T030000
TZOFFSETFROM:+0100
TZOFFSETTO:+0200
TZNAME:CEST
END:DAYLIGHT
END:VTIMEZONE
END:VCALENDAR