BEGIN:VCALENDAR
VERSION:2.0
PRODID:-//wp-events-plugin.com//7.2.3.1//EN
BEGIN:VEVENT
UID:231@svfilatelie.nl
DTSTART;TZID=Europe/Amsterdam:20260526T193000
DTEND;TZID=Europe/Amsterdam:20260526T223000
DTSTAMP:20260405T150407Z
URL:https://www.svfilatelie.nl/events/clubavond-pzv-de-achterhoek-14
SUMMARY:Clubavond pzv de Achterhoek
DESCRIPTION:De maandelijkse clubavond elke avond een veiling en verloting\n
 Contact Henk Grievink\nemail henkgrievink@hotmail.com\ntel\; 06-11770082
CATEGORIES:Clubavond
LOCATION:De Koppelpaarden\, Rapenburgsestraat 20\, Lichtenvoorde\, Nederlan
 d
X-APPLE-STRUCTURED-LOCATION;VALUE=URI;X-ADDRESS=Rapenburgsestraat 20\, Lich
 tenvoorde\, Nederland;X-APPLE-RADIUS=100;X-TITLE=De Koppelpaarden:geo:0,0
END:VEVENT
BEGIN:VTIMEZONE
TZID:Europe/Amsterdam
X-LIC-LOCATION:Europe/Amsterdam
BEGIN:DAYLIGHT
DTSTART:20260329T030000
TZOFFSETFROM:+0100
TZOFFSETTO:+0200
TZNAME:CEST
END:DAYLIGHT
END:VTIMEZONE
END:VCALENDAR