BEGIN:VCALENDAR
VERSION:2.0
PRODID:-//wp-events-plugin.com//7.2.3.1//EN
BEGIN:VEVENT
UID:420@svfilatelie.nl
DTSTART;TZID=Europe/Amsterdam:20261124T193000
DTEND;TZID=Europe/Amsterdam:20261124T223000
DTSTAMP:20260405T145932Z
URL:https://www.svfilatelie.nl/events/clubavond-pzv-de-achterhoek-19
SUMMARY:Clubavond pzv de Achterhoek
DESCRIPTION:Kleine veiling ruilavond\nContact Henk Grievink\nemail henkgrie
 vink@hotmail.com\ntel\; 06-11770082
CATEGORIES:Clubavond
LOCATION:De Koppelpaarden\, Rapenburgsestraat 20\, Lichtenvoorde\, Nederlan
 d
X-APPLE-STRUCTURED-LOCATION;VALUE=URI;X-ADDRESS=Rapenburgsestraat 20\, Lich
 tenvoorde\, Nederland;X-APPLE-RADIUS=100;X-TITLE=De Koppelpaarden:geo:0,0
END:VEVENT
BEGIN:VTIMEZONE
TZID:Europe/Amsterdam
X-LIC-LOCATION:Europe/Amsterdam
BEGIN:STANDARD
DTSTART:20261025T020000
TZOFFSETFROM:+0200
TZOFFSETTO:+0100
TZNAME:CET
END:STANDARD
END:VTIMEZONE
END:VCALENDAR